BEGIN:VCALENDAR
VERSION:2.0
PRODID:-//wp-events-plugin.com//7.2.1//EN
TZID:Europe/Stockholm
X-WR-TIMEZONE:Europe/Stockholm
BEGIN:VEVENT
UID:105@viksjogk.se
DTSTART;TZID=Europe/Stockholm:20250422T100000
DTEND;TZID=Europe/Stockholm:20250626T190000
DTSTAMP:20250422T040225Z
URL:https://viksjogk.se/events/traningskortet-2025/
SUMMARY:Träningskortet 2025
DESCRIPTION:﻿﻿Här sker anmälan och betalning för Träningskortet 202
 5\n\nFörmiddags- eller Kvällskortet 1995 kr
END:VEVENT
BEGIN:VTIMEZONE
TZID:Europe/Stockholm
X-LIC-LOCATION:Europe/Stockholm
BEGIN:DAYLIGHT
DTSTART:20250330T030000
TZOFFSETFROM:+0100
TZOFFSETTO:+0200
TZNAME:CEST
END:DAYLIGHT
END:VTIMEZONE
END:VCALENDAR